Workbook

Sheet AAA Competition(Master)
A2: Division | B2: DistNo | C2: Name | D2: LODGE | E2: Members | F2: Total Contributed | G2: Per-Capita
A3: 4 | B3: 2 | C3: MANDARIN | D3: 42 | E3: 1640 | F3: 71 | G3: =F3/E3 -> 0.043292683
A4: 4 | B4: 5 | C4: PALATKA | D4: 184 | E4: 1605 | F4: 84 | G4: =F4/E4 -> 0.052336449
A5: 3 | B5: 21 | C5: WEST BOCA RATON | D5: 204 | E5: 927 | F5: 28 | G5: =F5/E5 -> 0.030204962
A6: 3 | B6: 15 | C6: FORT PIERCE | D6: 248 | E6: 1069 | F6: 51 | G6: =F6/E6 -> 0.047708138
A7: 2 | B7: 4 | C7: SUWANEE RIVER | D7: 325 | E7: 659 | F7: 77 | G7: =F7/E7 -> 0.1168437
A8: 1 | B8: 22 | C8: PERRINE | D8: 380 | E8: 227 | F8: 18 | G8: =F8/E8 -> 0.079295154
A9: 2 | B9: 8 | C9: DADE CITY | D9: 397 | E9: 636 | F9: 30 | G9: =F9/E9 -> 0.047169811
A10: 2 | B10: 10 | C10: PALM HARBOR | D10: 433 | E10: 742 | F10: 38 | G10: =F10/E10 -> 0.051212938
A11: 2 | B11: 3 | C11: JACKSONVILLE | D11: 455 | E11: 568 | F11: 32 | G11: =F11/E11 -> 0.056338028
A12: 2 | B12: 15 | C12: PORT ST. LUCIE | D12: 513 | E12: 647 | F12: 50 | G12: =F12/E12 -> 0.077279753
A13: 3 | B13: 8 | C13: SPRING HILL | D13: 521 | E13: 870 | F13: 33 | G13: =F13/E13 -> 0.037931034
A14: 2 | B14: 1 | C14: PENSACOLA | D14: 557 | E14: 700 | F14: 39 | G14: =F14/E14 -> 0.055714286
... A120: 1 | B120: 2 | C120: OPPORTUNITY | D120: 3001 | E120: 207 | F120: 0 | G120: =F120/E120 -> 0

Sheet MC Sheet
A1: FRU | B1: LodgeNo | C1: NoFormatted | D1: Total Apps
A2: Anna Maria Island Lodge #2188 | B2: =_xlfn.TEXTAFTER(A2,"#") -> 2188 | C2: 2188 | D2: 62600
A3: Arcadia Lodge #1327 | B3: =_xlfn.TEXTAFTER(A3,"#") -> 1327 | C3: 1327 | D3: 1100 | F3: Credit $1000 to labelle 2398
A4: Big Pine Key Lodge #1585 | B4: =_xlfn.TEXTAFTER(A4,"#") -> 1585 | C4: 1585 | D4: 400 | F4: Credit $500 to Pensacola 557
A5: Bonita Springs Lodge #1454 | B5: =_xlfn.TEXTAFTER(A5,"#") -> 1454 | C5: 1454 | D5: 2800
A6: Bradenton Lodge #1223 | B6: =_xlfn.TEXTAFTER(A6,"#") -> 1223 | C6: 1223 | D6: 1000
A7: Brandon Lodge #1880 | B7: =_xlfn.TEXTAFTER(A7,"#") -> 1880 | C7: 1880 | D7: 2850
A8: Brooksville Lodge #1676 | B8: =_xlfn.TEXTAFTER(A8,"#") -> 1676 | C8: 1676 | D8: 600
A9: Caloosahatchee Lodge #2395 | B9: =_xlfn.TEXTAFTER(A9,"#") -> 2395 | C9: 2395 | D9: 200
A10: Cape Coral Lodge #2199 | B10: =_xlfn.TEXTAFTER(A10,"#") -> 2199 | C10: 2199 | D10: 700
A11: Cocoa Lodge #1717 | B11: =_xlfn.TEXTAFTER(A11,"#") -> 1717 | C11: 1717 | D11: 1048
A12: Crescent City Lodge #1641 | B12: =_xlfn.TEXTAFTER(A12,"#") -> 1641 | C12: 1641 | D12: 100
A13: Crystal River Lodge #2013 | B13: =_xlfn.TEXTAFTER(A13,"#") -> 2013 | C13: 2013 | D13: 150
A14: Dade City Lodge #397 | B14: =_xlfn.TEXTAFTER(A14,"#") -> 397 | C14: 397 | D14: 750
A15: Davie Lodge #1798 | B15: =_xlfn.TEXTAFTER(A15,"#") -> 1798 | C15: 1798 | D15: 637
A16: Daytona Beach Lodge #1263 | B16: =_xlfn.TEXTAFTER(A16,"#") -> 1263 | C16: 1263 | D16: 350
... A98: Zephyrhills Lodge #2276 | B98: =_xlfn.TEXTAFTER(A98,"#") -> 2276 | C98: 2276 | D98: 5300

Sheet AAA Competition Sorted
A1: 1 YEAR RETENTION CAMPAIGN FROM 5/1/26 to 4/30/27 As of 10/1/26
A2: Count | E2: Members | F2: Avg Ret %
A3: =SUBTOTAL(2, A5:A122) -> 117 | E3: =SUBTOTAL(9,E5:E121) -> 189086 | F3: =SUBTOTAL(1,F5:F121) -> 78.971795
A4: Division | B4: Dist# | C4: Name | D4: Lodge | E4: Members | F4: 1 Year Retention % | G4: Ranking by Division
A5: ='AAA Competition(Master)'!A86 -> 4 | B5: ='AAA Competition(Master)'!B86 -> 13 | C5: ='AAA Competition(Master)'!C86 -> ANNA MARIA ISLAND | D5: ='AAA Competition(Master)'!D86 -> 2188 | E5: 20577 | F5: 85.86 | G5: {=SUMPRODUCT(($A$5:$A$121=A5)*(F5<$F$5:$F$121))+1} -> 1
A6: ='AAA Competition(Master)'!A41 -> 3 | B6: ='AAA Competition(Master)'!B41 -> 14 | C6: ='AAA Competition(Master)'!C41 -> ARCADIA | D6: ='AAA Competition(Master)'!D41 -> 1327 | E6: 1073 | F6: 82.86 | G6: {=SUMPRODUCT(($A$5:$A$121=A6)*(F6<$F$5:$F$121))+1} -> 10
A7: 3 | B7: ='AAA Competition(Master)'!B48 -> 23 | C7: ='AAA Competition(Master)'!C48 -> BIG PINE KEY | D7: ='AAA Competition(Master)'!D48 -> 1585 | E7: 1445 | F7: 85.6 | G7: {=SUMPRODUCT(($A$5:$A$121=A7)*(F7<$F$5:$F$121))+1} -> 3
A8: ='AAA Competition(Master)'!A44 -> 4 | B8: ='AAA Competition(Master)'!B44 -> 20 | C8: ='AAA Competition(Master)'!C44 -> BONITA SPRINGS | D8: ='AAA Competition(Master)'!D44 -> 1454 | E8: 3355 | F8: 81.76 | G8: {=SUMPRODUCT(($A$5:$A$121=A8)*(F8<$F$5:$F$121))+1} -> 11
A9: ='AAA Competition(Master)'!A34 -> 4 | B9: ='AAA Competition(Master)'!B34 -> 13 | C9: ='AAA Competition(Master)'!C34 -> BRADENTON | D9: ='AAA Competition(Master)'!D34 -> 1223 | E9: 2513 | F9: 81.05 | G9: {=SUMPRODUCT(($A$5:$A$121=A9)*(F9<$F$5:$F$121))+1} -> 18
A10: 3 | B10: ='AAA Competition(Master)'!B67 -> 11 | C10: ='AAA Competition(Master)'!C67 -> BRANDON | D10: ='AAA Competition(Master)'!D67 -> 1880 | E10: 1432 | F10: 82.75 | G10: {=SUMPRODUCT(($A$5:$A$121=A10)*(F10<$F$5:$F$121))+1} -> 11
A11: 1 | B11: ='AAA Competition(Master)'!B52 -> 8 | C11: ='AAA Competition(Master)'!C52 -> BROOKSVILLE | D11: ='AAA Competition(Master)'!D52 -> 1676 | E11: 503 | F11: 75.68 | G11: {=SUMPRODUCT(($A$5:$A$121=A11)*(F11<$F$5:$F$121))+1} -> 16
A12: ='AAA Competition(Master)'!A110 -> 2 | B12: ='AAA Competition(Master)'!B110 -> 15 | C12: ='AAA Competition(Master)'!C110 -> BUCKHEAD RIDGE | D12: ='AAA Competition(Master)'!D110 -> 2417 | E12: 722 | F12: 82.17 | G12: {=SUMPRODUCT(($A$5:$A$121=A12)*(F12<$F$5:$F$121))+1} -> 7
A13: 4 | B13: ='AAA Competition(Master)'!B107 -> 18 | C13: ='AAA Competition(Master)'!C107 -> CALOOSAHATCHEE | D13: ='AAA Competition(Master)'!D107 -> 2395 | E13: 1911 | F13: 82.53 | G13: {=SUMPRODUCT(($A$5:$A$121=A13)*(F13<$F$5:$F$121))+1} -> 7
A14: ='AAA Competition(Master)'!A88 -> 4 | B14: ='AAA Competition(Master)'!B88 -> 18 | C14: ='AAA Competition(Master)'!C88 -> CAPE CORAL | D14: ='AAA Competition(Master)'!D88 -> 2199 | E14: 3582 | F14: 79.47 | G14: {=SUMPRODUCT(($A$5:$A$121=A14)*(F14<$F$5:$F$121))+1} -> 21
A15: ='AAA Competition(Master)'!A55 -> 3 | B15: ='AAA Competition(Master)'!B55 -> 9 | C15: ='AAA Competition(Master)'!C55 -> COCOA | D15: ='AAA Competition(Master)'!D55 -> 1717 | E15: 1007 | F15: 78.72 | G15: {=SUMPRODUCT(($A$5:$A$121=A15)*(F15<$F$5:$F$121))+1} -> 19
A16: 3 | B16: ='AAA Competition(Master)'!B112 -> 6 | C16: ='AAA Competition(Master)'!C112 -> COUNTY LINE | D16: ='AAA Competition(Master)'!D112 -> 2427 | E16: 1264 | F16: 83.77 | G16: {=SUMPRODUCT(($A$5:$A$121=A16)*(F16<$F$5:$F$121))+1} -> 7
A17: ='AAA Competition(Master)'!A50 -> 2 | B17: ='AAA Competition(Master)'!B50 -> 5 | C17: ='AAA Competition(Master)'!C50 -> CRESCENT CITY | D17: ='AAA Competition(Master)'!D50 -> 1641 | E17: 670 | F17: 83.51 | G17: {=SUMPRODUCT(($A$5:$A$121=A17)*(F17<$F$5:$F$121))+1} -> 3
A18: 2 | B18: ='AAA Competition(Master)'!B74 -> 4 | C18: ='AAA Competition(Master)'!C74 -> CRYSTAL RIVER | D18: ='AAA Competition(Master)'!D74 -> 2013 | E18: 929 | F18: 83.44 | G18: {=SUMPRODUCT(($A$5:$A$121=A18)*(F18<$F$5:$F$121))+1} -> 4
A19: 1 | B19: ='AAA Competition(Master)'!B9 -> 8 | C19: ='AAA Competition(Master)'!C9 -> DADE CITY | D19: ='AAA Competition(Master)'!D9 -> 397 | E19: 538 | F19: 66.78 | G19: {=SUMPRODUCT(($A$5:$A$121=A19)*(F19<$F$5:$F$121))+1} -> 26
A20: ='AAA Competition(Master)'!A62 -> 1 | B20: ='AAA Competition(Master)'!B62 -> 21 | C20: ='AAA Competition(Master)'!C62 -> DAVIE | D20: ='AAA Competition(Master)'!D62 -> 1798 | E20: 352 | F20: 74.8 | G20: {=SUMPRODUCT(($A$5:$A$121=A20)*(F20<$F$5:$F$121))+1} -> 18
A21: ='AAA Competition(Master)'!A35 -> 4 | B21: ='AAA Competition(Master)'!B35 -> 5 | C21: ='AAA Competition(Master)'!C35 -> DAYTONA BEACH | D21: ='AAA Competition(Master)'!D35 -> 1263 | E21: 4426 | F21: 78.53 | G21: {=SUMPRODUCT(($A$5:$A$121=A21)*(F21<$F$5:$F$121))+1} -> 25
A22: 3 | B22: ='AAA Competition(Master)'!B30 -> 7 | C22: ='AAA Competition(Master)'!C30 -> DELAND | D22: ='AAA Competition(Master)'!D30 -> 1126 | E22: 965 | F22: 77.84 | G22: {=SUMPRODUCT(($A$5:$A$121=A22)*(F22<$F$5:$F$121))+1} -> 23
A23: ='AAA Competition(Master)'!A98 -> 3 | B23: ='AAA Competition(Master)'!B98 -> 4 | C23: ='AAA Competition(Master)'!C98 -> DUNNELLON | D23: ='AAA Competition(Master)'!D98 -> 2308 | E23: 1166 | F23: 81.43 | G23: {=SUMPRODUCT(($A$5:$A$121=A23)*(F23<$F$5:$F$121))+1} -> 14
A24: ='AAA Competition(Master)'!A70 -> 4 | B24: ='AAA Competition(Master)'!B70 -> 16 | C24: ='AAA Competition(Master)'!C70 -> ENGLEWOOD | D24: ='AAA Competition(Master)'!D70 -> 1933 | E24: 14741 | F24: 79.08 | G24: {=SUMPRODUCT(($A$5:$A$121=A24)*(F24<$F$5:$F$121))+1} -> 23
A25: ='AAA Competition(Master)'!A68 -> 4 | B25: ='AAA Competition(Master)'!B68 -> 19 | C25: ='AAA Competition(Master)'!C68 -> FORT MYERS | D25: ='AAA Competition(Master)'!D68 -> 1899 | E25: 2247 | F25: 84.16 | G25: {=SUMPRODUCT(($A$5:$A$121=A25)*(F25<$F$5:$F$121))+1} -> 4
A26: ='AAA Competition(Master)'!A23 -> 4 | B26: ='AAA Competition(Master)'!B23 -> 18 | C26: ='AAA Competition(Master)'!C23 -> FORT MYERS BCH | D26: ='AAA Competition(Master)'!D23 -> 964 | E26: 2552 | F26: 83.3 | G26: {=SUMPRODUCT(($A$5:$A$121=A26)*(F26<$F$5:$F$121))+1} -> 5
A27: ='AAA Competition(Master)'!A6 -> 3 | B27: ='AAA Competition(Master)'!B6 -> 15 | C27: ='AAA Competition(Master)'!C6 -> FORT PIERCE | D27: ='AAA Competition(Master)'!D6 -> 248 | E27: 1170 | F27: 80.48 | G27: {=SUMPRODUCT(($A$5:$A$121=A27)*(F27<$F$5:$F$121))+1} -> 17
A28: 2 | B28: ='AAA Competition(Master)'!B87 -> 1 | C28: ='AAA Competition(Master)'!C87 -> FORT WALTON BEACH | D28: ='AAA Competition(Master)'!D87 -> 2193 | E28: 785 | F28: 81.57 | G28: {=SUMPRODUCT(($A$5:$A$121=A28)*(F28<$F$5:$F$121))+1} -> 8
A29: 3 | B29: ='AAA Competition(Master)'!B17 -> 7 | C29: ='AAA Competition(Master)'!C17 -> FOUR TOWNES | D29: ='AAA Competition(Master)'!D17 -> 655 | E29: 1253 | F29: 82.09 | G29: {=SUMPRODUCT(($A$5:$A$121=A29)*(F29<$F$5:$F$121))+1} -> 12
A30: ='AAA Competition(Master)'!A51 -> 1 | B30: ='AAA Competition(Master)'!B51 -> 20 | C30: ='AAA Competition(Master)'!C51 -> GOLDEN GATE | D30: ='AAA Competition(Master)'!D51 -> 1654 | E30: 177 | F30: 76.14 | G30: {=SUMPRODUCT(($A$5:$A$121=A30)*(F30<$F$5:$F$121))+1} -> 15
A31: ='AAA Competition(Master)'!A21 -> 3 | B31: ='AAA Competition(Master)'!B21 -> 6 | C31: ='AAA Competition(Master)'!C21 -> GOLDEN TRIANGLE | D31: ='AAA Competition(Master)'!D21 -> 874 | E31: 1041 | F31: 78.7 | G31: {=SUMPRODUCT(($A$5:$A$121=A31)*(F31<$F$5:$F$121))+1} -> 20
A32: ='AAA Competition(Master)'!A118 -> 4 | B32: ='AAA Competition(Master)'!B118 -> 16 | C32: ='AAA Competition(Master)'!C118 -> GULF COVE | D32: ='AAA Competition(Master)'!D118 -> 2554 | E32: 3219 | F32: 73.8 | G32: {=SUMPRODUCT(($A$5:$A$121=A32)*(F32<$F$5:$F$121))+1} -> 30
A33: 3 | B33: ='AAA Competition(Master)'!B15 -> 13 | C33: ='AAA Competition(Master)'!C15 -> GULF GATE | D33: ='AAA Competition(Master)'!D15 -> 608 | E33: 1461 | F33: 84.73 | G33: {=SUMPRODUCT(($A$5:$A$121=A33)*(F33<$F$5:$F$121))+1} -> 6
A34: 1 | B34: ='AAA Competition(Master)'!B78 -> 12 | C34: ='AAA Competition(Master)'!C78 -> HAINES CITY | D34: ='AAA Competition(Master)'!D78 -> 2083 | E34: 612 | F34: 81.02 | G34: {=SUMPRODUCT(($A$5:$A$121=A34)*(F34<$F$5:$F$121))+1} -> 5
A35: 1 | B35: ='AAA Competition(Master)'!B115 -> 5 | C35: ='AAA Competition(Master)'!C115 -> HALIFAX RIVER | D35: ='AAA Competition(Master)'!D115 -> 2516 | E35: 520 | F35: 80.16 | G35: {=SUMPRODUCT(($A$5:$A$121=A35)*(F35<$F$5:$F$121))+1} -> 7
A36: 2 | B36: ='AAA Competition(Master)'!B113 -> 14 | C36: ='AAA Competition(Master)'!C113 -> HIGHLANDS CO | D36: ='AAA Competition(Master)'!D113 -> 2494 | E36: 893 | F36: 83.63 | G36: {=SUMPRODUCT(($A$5:$A$121=A36)*(F36<$F$5:$F$121))+1} -> 2
A37: 2 | B37: ='AAA Competition(Master)'!B22 -> 11 | C37: ='AAA Competition(Master)'!C22 -> INTERBAY-TAMPA | D37: ='AAA Competition(Master)'!D22 -> 912 | E37: 882 | F37: 76.22 | G37: {=SUMPRODUCT(($A$5:$A$121=A37)*(F37<$F$5:$F$121))+1} -> 26
A38: 3 | B38: ='AAA Competition(Master)'!B79 -> 4 | C38: ='AAA Competition(Master)'!C79 -> INVERNESS | D38: ='AAA Competition(Master)'!D79 -> 2112 | E38: 1271 | F38: 86.55 | G38: {=SUMPRODUCT(($A$5:$A$121=A38)*(F38<$F$5:$F$121))+1} -> 2
A39: 3 | B39: ='AAA Competition(Master)'!B83 -> 23 | C39: ='AAA Competition(Master)'!C83 -> ISLAMORADA | D39: ='AAA Competition(Master)'!D83 -> 2151 | E39: 1375 | F39: 83.67 | G39: {=SUMPRODUCT(($A$5:$A$121=A39)*(F39<$F$5:$F$121))+1} -> 8
A40: 1 | B40: ='AAA Competition(Master)'!B11 -> 3 | C40: ='AAA Competition(Master)'!C11 -> JACKSONVILLE | D40: ='AAA Competition(Master)'!D11 -> 455 | E40: 533 | F40: 81.67 | G40: {=SUMPRODUCT(($A$5:$A$121=A40)*(F40<$F$5:$F$121))+1} -> 4
...
