Workbook

Sheet AAA Competition(Master)
A2: Division | B2: DistNo | C2: Name | D2: LODGE | E2: Members | F2: Total Contributed | G2: Per-Capita
A3: 4 | B3: 2 | C3: MANDARIN | D3: 42 | E3: 1640 | F3: 71 | G3: =F3/E3 -> 0.043292683
A4: 4 | B4: 5 | C4: PALATKA | D4: 184 | E4: 1605 | F4: 84 | G4: =F4/E4 -> 0.052336449
A5: 3 | B5: 21 | C5: WEST BOCA RATON | D5: 204 | E5: 927 | F5: 28 | G5: =F5/E5 -> 0.030204962
A6: 3 | B6: 15 | C6: FORT PIERCE | D6: 248 | E6: 1069 | F6: 51 | G6: =F6/E6 -> 0.047708138
A7: 2 | B7: 4 | C7: SUWANEE RIVER | D7: 325 | E7: 659 | F7: 77 | G7: =F7/E7 -> 0.1168437
A8: 1 | B8: 22 | C8: PERRINE | D8: 380 | E8: 227 | F8: 18 | G8: =F8/E8 -> 0.079295154
A9: 2 | B9: 8 | C9: DADE CITY | D9: 397 | E9: 636 | F9: 30 | G9: =F9/E9 -> 0.047169811
A10: 2 | B10: 10 | C10: PALM HARBOR | D10: 433 | E10: 742 | F10: 38 | G10: =F10/E10 -> 0.051212938
A11: 2 | B11: 3 | C11: JACKSONVILLE | D11: 455 | E11: 568 | F11: 32 | G11: =F11/E11 -> 0.056338028
A12: 2 | B12: 15 | C12: PORT ST. LUCIE | D12: 513 | E12: 647 | F12: 50 | G12: =F12/E12 -> 0.077279753
A13: 3 | B13: 8 | C13: SPRING HILL | D13: 521 | E13: 870 | F13: 33 | G13: =F13/E13 -> 0.037931034
A14: 2 | B14: 1 | C14: PENSACOLA | D14: 557 | E14: 700 | F14: 39 | G14: =F14/E14 -> 0.055714286
... A120: 1 | B120: 2 | C120: OPPORTUNITY | D120: 3001 | E120: 207 | F120: 0 | G120: =F120/E120 -> 0

Sheet MC Sheet
A1: FRU | B1: LodgeNo | C1: NoFormatted | D1: Total Apps
A2: Anna Maria Island Lodge #2188 | B2: =_xlfn.TEXTAFTER(A2,"#") -> 2188 | C2: 2188 | D2: 62600
A3: Arcadia Lodge #1327 | B3: =_xlfn.TEXTAFTER(A3,"#") -> 1327 | C3: 1327 | D3: 1100 | F3: Credit $1000 to labelle 2398
A4: Big Pine Key Lodge #1585 | B4: =_xlfn.TEXTAFTER(A4,"#") -> 1585 | C4: 1585 | D4: 400 | F4: Credit $500 to Pensacola 557
A5: Bonita Springs Lodge #1454 | B5: =_xlfn.TEXTAFTER(A5,"#") -> 1454 | C5: 1454 | D5: 2800
A6: Bradenton Lodge #1223 | B6: =_xlfn.TEXTAFTER(A6,"#") -> 1223 | C6: 1223 | D6: 1000
A7: Brandon Lodge #1880 | B7: =_xlfn.TEXTAFTER(A7,"#") -> 1880 | C7: 1880 | D7: 2850
A8: Brooksville Lodge #1676 | B8: =_xlfn.TEXTAFTER(A8,"#") -> 1676 | C8: 1676 | D8: 600
A9: Caloosahatchee Lodge #2395 | B9: =_xlfn.TEXTAFTER(A9,"#") -> 2395 | C9: 2395 | D9: 200
A10: Cape Coral Lodge #2199 | B10: =_xlfn.TEXTAFTER(A10,"#") -> 2199 | C10: 2199 | D10: 700
A11: Cocoa Lodge #1717 | B11: =_xlfn.TEXTAFTER(A11,"#") -> 1717 | C11: 1717 | D11: 1048
A12: Crescent City Lodge #1641 | B12: =_xlfn.TEXTAFTER(A12,"#") -> 1641 | C12: 1641 | D12: 100
A13: Crystal River Lodge #2013 | B13: =_xlfn.TEXTAFTER(A13,"#") -> 2013 | C13: 2013 | D13: 150
A14: Dade City Lodge #397 | B14: =_xlfn.TEXTAFTER(A14,"#") -> 397 | C14: 397 | D14: 750
A15: Davie Lodge #1798 | B15: =_xlfn.TEXTAFTER(A15,"#") -> 1798 | C15: 1798 | D15: 637
A16: Daytona Beach Lodge #1263 | B16: =_xlfn.TEXTAFTER(A16,"#") -> 1263 | C16: 1263 | D16: 350
... A98: Zephyrhills Lodge #2276 | B98: =_xlfn.TEXTAFTER(A98,"#") -> 2276 | C98: 2276 | D98: 5300

Sheet AAA Competition Sorted
A1: 1 YEAR RETENTION CAMPAIGN FROM 5/1/26 to 4/30/27 As of 10/1/26
A2: Count | E2: Members | F2: Avg Ret %
A3: =SUBTOTAL(2, A5:A122) -> 117 | E3: =SUBTOTAL(9,E5:E121) -> 189086 | F3: =SUBTOTAL(1,F5:F121) -> 78.971795
A4: Division | B4: Dist# | C4: Name | D4: Lodge | E4: Members | F4: 1 Year Retention % | G4: Ranking by Division
A5: ='AAA Competition(Master)'!A86 -> 4 | B5: ='AAA Competition(Master)'!B86 -> 13 | C5: ='AAA Competition(Master)'!C86 -> ANNA MARIA ISLAND | D5: ='AAA Competition(Master)'!D86 -> 2188 | E5: 20577 | F5: 85.86 | G5: {=SUMPRODUCT(($A$5:$A$121=A5)*(F5<$F$5:$F$121))+1} -> 1
A6: ='AAA Competition(Master)'!A41 -> 3 | B6: ='AAA Competition(Master)'!B41 -> 14 | C6: ='AAA Competition(Master)'!C41 -> ARCADIA | D6: ='AAA Competition(Master)'!D41 -> 1327 | E6: 1073 | F6: 82.86 | G6: {=SUMPRODUCT(($A$5:$A$121=A6)*(F6<$F$5:$F$121))+1} -> 10
A7: 3 | B7: ='AAA Competition(Master)'!B48 -> 23 | C7: ='AAA Competition(Master)'!C48 -> BIG PINE KEY | D7: ='AAA Competition(Master)'!D48 -> 1585 | E7: 1445 | F7: 85.6 | G7: {=SUMPRODUCT(($A$5:$A$121=A7)*(F7<$F$5:$F$121))+1} -> 3
A8: ='AAA Competition(Master)'!A44 -> 4 | B8: ='AAA Competition(Master)'!B44 -> 20 | C8: ='AAA Competition(Master)'!C44 -> BONITA SPRINGS | D8: ='AAA Competition(Master)'!D44 -> 1454 | E8: 3355 | F8: 81.76 | G8: {=SUMPRODUCT(($A$5:$A$121=A8)*(F8<$F$5:$F$121))+1} -> 11
A9: ='AAA Competition(Master)'!A34 -> 4 | B9: ='AAA Competition(Master)'!B34 -> 13 | C9: ='AAA Competition(Master)'!C34 -> BRADENTON | D9: ='AAA Competition(Master)'!D34 -> 1223 | E9: 2513 | F9: 81.05 | G9: {=SUMPRODUCT(($A$5:$A$121=A9)*(F9<$F$5:$F$121))+1} -> 18
A10: 3 | B10: ='AAA Competition(Master)'!B67 -> 11 | C10: ='AAA Competition(Master)'!C67 -> BRANDON | D10: ='AAA Competition(Master)'!D67 -> 1880 | E10: 1432 | F10: 82.75 | G10: {=SUMPRODUCT(($A$5:$A$121=A10)*(F10<$F$5:$F$121))+1} -> 11
A11: 1 | B11: ='AAA Competition(Master)'!B52 -> 8 | C11: ='AAA Competition(Master)'!C52 -> BROOKSVILLE | D11: ='AAA Competition(Master)'!D52 -> 1676 | E11: 503 | F11: 75.68 | G11: {=SUMPRODUCT(($A$5:$A$121=A11)*(F11<$F$5:$F$121))+1} -> 16
A12: ='AAA Competition(Master)'!A110 -> 2 | B12: ='AAA Competition(Master)'!B110 -> 15 | C12: ='AAA Competition(Master)'!C110 -> BUCKHEAD RIDGE | D12: ='AAA Competition(Master)'!D110 -> 2417 | E12: 722 | F12: 82.17 | G12: {=SUMPRODUCT(($A$5:$A$121=A12)*(F12<$F$5:$F$121))+1} -> 7
A13: 4 | B13: ='AAA Competition(Master)'!B107 -> 18 | C13: ='AAA Competition(Master)'!C107 -> CALOOSAHATCHEE | D13: ='AAA Competition(Master)'!D107 -> 2395 | E13: 1911 | F13: 82.53 | G13: {=SUMPRODUCT(($A$5:$A$121=A13)*(F13<$F$5:$F$121))+1} -> 7
A14: ='AAA Competition(Master)'!A88 -> 4 | B14: ='AAA Competition(Master)'!B88 -> 18 | C14: ='AAA Competition(Master)'!C88 -> CAPE CORAL | D14: ='AAA Competition(Master)'!D88 -> 2199 | E14: 3582 | F14: 79.47 | G14: {=SUMPRODUCT(($A$5:$A$121=A14)*(F14<$F$5:$F$121))+1} -> 21
A15: ='AAA Competition(Master)'!A55 -> 3 | B15: ='AAA Competition(Master)'!B55 -> 9 | C15: ='AAA Competition(Master)'!C55 -> COCOA | D15: ='AAA Competition(Master)'!D55 -> 1717 | E15: 1007 | F15: 78.72 | G15: {=SUMPRODUCT(($A$5:$A$121=A15)*(F15<$F$5:$F$121))+1} -> 19
A16: 3 | B16: ='AAA Competition(Master)'!B112 -> 6 | C16: ='AAA Competition(Master)'!C112 -> COUNTY LINE | D16: ='AAA Competition(Master)'!D112 -> 2427 | E16: 1264 | F16: 83.77 | G16: {=SUMPRODUCT(($A$5:$A$121=A16)*(F16<$F$5:$F$121))+1} -> 7
A17: ='AAA Competition(Master)'!A50 -> 2 | B17: ='AAA Competition(Master)'!B50 -> 5 | C17: ='AAA Competition(Master)'!C50 -> CRESCENT CITY | D17: ='AAA Competition(Master)'!D50 -> 1641 | E17: 670 | F17: 83.51 | G17: {=SUMPRODUCT(($A$5:$A$121=A17)*(F17<$F$5:$F$121))+1} -> 3
A18: 2 | B18: ='AAA Competition(Master)'!B74 -> 4 | C18: ='AAA Competition(Master)'!C74 -> CRYSTAL RIVER | D18: ='AAA Competition(Master)'!D74 -> 2013 | E18: 929 | F18: 83.44 | G18: {=SUMPRODUCT(($A$5:$A$121=A18)*(F18<$F$5:$F$121))+1} -> 4
A19: 1 | B19: ='AAA Competition(Master)'!B9 -> 8 | C19: ='AAA Competition(Master)'!C9 -> DADE CITY | D19: ='AAA Competition(Master)'!D9 -> 397 | E19: 538 | F19: 66.78 | G19: {=SUMPRODUCT(($A$5:$A$121=A19)*(F19<$F$5:$F$121))+1} -> 26
A20: ='AAA Competition(Master)'!A62 -> 1 | B20: ='AAA Competition(Master)'!B62 -> 21 | C20: ='AAA Competition(Master)'!C62 -> DAVIE | D20: ='AAA Competition(Master)'!D62 -> 1798 | E20: 352 | F20: 74.8 | G20: {=SUMPRODUCT(($A$5:$A$121=A20)*(F20<$F$5:$F$121))+1} -> 18
A21: ='AAA Competition(Master)'!A35 -> 4 | B21: ='AAA Competition(Master)'!B35 -> 5 | C21: ='AAA Competition(Master)'!C35 -> DAYTONA BEACH | D21: ='AAA Competition(Master)'!D35 -> 1263 | E21: 4426 | F21: 78.53 | G21: {=SUMPRODUCT(($A$5:$A$121=A21)*(F21<$F$5:$F$121))+1} -> 25
A22: 3 | B22: ='AAA Competition(Master)'!B30 -> 7 | C22: ='AAA Competition(Master)'!C30 -> DELAND | D22: ='AAA Competition(Master)'!D30 -> 1126 | E22: 965 | F22: 77.84 | G22: {=SUMPRODUCT(($A$5:$A$121=A22)*(F22<$F$5:$F$121))+1} -> 23
A23: ='AAA Competition(Master)'!A98 -> 3 | B23: ='AAA Competition(Master)'!B98 -> 4 | C23: ='AAA Competition(Master)'!C98 -> DUNNELLON | D23: ='AAA Competition(Master)'!D98 -> 2308 | E23: 1166 | F23: 81.43 | G23: {=SUMPRODUCT(($A$5:$A$121=A23)*(F23<$F$5:$F$121))+1} -> 14
A24: ='AAA Competition(Master)'!A70 -> 4 | B24: ='AAA Competition(Master)'!B70 -> 16 | C24: ='AAA Competition(Master)'!C70 -> ENGLEWOOD | D24: ='AAA Competition(Master)'!D70 -> 1933 | E24: 14741 | F24: 79.08 | G24: {=SUMPRODUCT(($A$5:$A$121=A24)*(F24<$F$5:$F$121))+1} -> 23
A25: ='AAA Competition(Master)'!A68 -> 4 | B25: ='AAA Competition(Master)'!B68 -> 19 | C25: ='AAA Competition(Master)'!C68 -> FORT MYERS | D25: ='AAA Competition(Master)'!D68 -> 1899 | E25: 2247 | F25: 84.16 | G25: {=SUMPRODUCT(($A$5:$A$121=A25)*(F25<$F$5:$F$121))+1} -> 4
A26: ='AAA Competition(Master)'!A23 -> 4 | B26: ='AAA Competition(Master)'!B23 -> 18 | C26: ='AAA Competition(Master)'!C23 -> FORT MYERS BCH | D26: ='AAA Competition(Master)'!D23 -> 964 | E26: 2552 | F26: 83.3 | G26: {=SUMPRODUCT(($A$5:$A$121=A26)*(F26<$F$5:$F$121))+1} -> 5
A27: ='AAA Competition(Master)'!A6 -> 3 | B27: ='AAA Competition(Master)'!B6 -> 15 | C27: ='AAA Competition(Master)'!C6 -> FORT PIERCE | D27: ='AAA Competition(Master)'!D6 -> 248 | E27: 1170 | F27: 80.48 | G27: {=SUMPRODUCT(($A$5:$A$121=A27)*(F27<$F$5:$F$121))+1} -> 17
A28: 2 | B28: ='AAA Competition(Master)'!B87 -> 1 | C28: ='AAA Competition(Master)'!C87 -> FORT WALTON BEACH | D28: ='AAA Competition(Master)'!D87 -> 2193 | E28: 785 | F28: 81.57 | G28: {=SUMPRODUCT(($A$5:$A$121=A28)*(F28<$F$5:$F$121))+1} -> 8
A29: 3 | B29: ='AAA Competition(Master)'!B17 -> 7 | C29: ='AAA Competition(Master)'!C17 -> FOUR TOWNES | D29: ='AAA Competition(Master)'!D17 -> 655 | E29: 1253 | F29: 82.09 | G29: {=SUMPRODUCT(($A$5:$A$121=A29)*(F29<$F$5:$F$121))+1} -> 12
A30: ='AAA Competition(Master)'!A51 -> 1 | B30: ='AAA Competition(Master)'!B51 -> 20 | C30: ='AAA Competition(Master)'!C51 -> GOLDEN GATE | D30: ='AAA Competition(Master)'!D51 -> 1654 | E30: 177 | F30: 76.14 | G30: {=SUMPRODUCT(($A$5:$A$121=A30)*(F30<$F$5:$F$121))+1} -> 15
A31: ='AAA Competition(Master)'!A21 -> 3 | B31: ='AAA Competition(Master)'!B21 -> 6 | C31: ='AAA Competition(Master)'!C21 -> GOLDEN TRIANGLE | D31: ='AAA Competition(Master)'!D21 -> 874 | E31: 1041 | F31: 78.7 | G31: {=SUMPRODUCT(($A$5:$A$121=A31)*(F31<$F$5:$F$121))+1} -> 20
A32: ='AAA Competition(Master)'!A118 -> 4 | B32: ='AAA Competition(Master)'!B118 -> 16 | C32: ='AAA Competition(Master)'!C118 -> GULF COVE | D32: ='AAA Competition(Master)'!D118 -> 2554 | E32: 3219 | F32: 73.8 | G32: {=SUMPRODUCT(($A$5:$A$121=A32)*(F32<$F$5:$F$121))+1} -> 30
A33: 3 | B33: ='AAA Competition(Master)'!B15 -> 13 | C33: ='AAA Competition(Master)'!C15 -> GULF GATE | D33: ='AAA Competition(Master)'!D15 -> 608 | E33: 1461 | F33: 84.73 | G33: {=SUMPRODUCT(($A$5:$A$121=A33)*(F33<$F$5:$F$121))+1} -> 6
A34: 1 | B34: ='AAA Competition(Master)'!B78 -> 12 | C34: ='AAA Competition(Master)'!C78 -> HAINES CITY | D34: ='AAA Competition(Master)'!D78 -> 2083 | E34: 612 | F34: 81.02 | G34: {=SUMPRODUCT(($A$5:$A$121=A34)*(F34<$F$5:$F$121))+1} -> 5
A35: 1 | B35: ='AAA Competition(Master)'!B115 -> 5 | C35: ='AAA Competition(Master)'!C115 -> HALIFAX RIVER | D35: ='AAA Competition(Master)'!D115 -> 2516 | E35: 520 | F35: 80.16 | G35: {=SUMPRODUCT(($A$5:$A$121=A35)*(F35<$F$5:$F$121))+1} -> 7
A36: 2 | B36: ='AAA Competition(Master)'!B113 -> 14 | C36: ='AAA Competition(Master)'!C113 -> HIGHLANDS CO | D36: ='AAA Competition(Master)'!D113 -> 2494 | E36: 893 | F36: 83.63 | G36: {=SUMPRODUCT(($A$5:$A$121=A36)*(F36<$F$5:$F$121))+1} -> 2
A37: 2 | B37: ='AAA Competition(Master)'!B22 -> 11 | C37: ='AAA Competition(Master)'!C22 -> INTERBAY-TAMPA | D37: ='AAA Competition(Master)'!D22 -> 912 | E37: 882 | F37: 76.22 | G37: {=SUMPRODUCT(($A$5:$A$121=A37)*(F37<$F$5:$F$121))+1} -> 26
A38: 3 | B38: ='AAA Competition(Master)'!B79 -> 4 | C38: ='AAA Competition(Master)'!C79 -> INVERNESS | D38: ='AAA Competition(Master)'!D79 -> 2112 | E38: 1271 | F38: 86.55 | G38: {=SUMPRODUCT(($A$5:$A$121=A38)*(F38<$F$5:$F$121))+1} -> 2
A39: 3 | B39: ='AAA Competition(Master)'!B83 -> 23 | C39: ='AAA Competition(Master)'!C83 -> ISLAMORADA | D39: ='AAA Competition(Master)'!D83 -> 2151 | E39: 1375 | F39: 83.67 | G39: {=SUMPRODUCT(($A$5:$A$121=A39)*(F39<$F$5:$F$121))+1} -> 8
A40: 1 | B40: ='AAA Competition(Master)'!B11 -> 3 | C40: ='AAA Competition(Master)'!C11 -> JACKSONVILLE | D40: ='AAA Competition(Master)'!D11 -> 455 | E40: 533 | F40: 81.67 | G40: {=SUMPRODUCT(($A$5:$A$121=A40)*(F40<$F$5:$F$121))+1} -> 4
A41: 3 | B41: ='AAA Competition(Master)'!B47 -> 3 | C41: ='AAA Competition(Master)'!C47 -> JACKSONVILLE BEACH | D41: ='AAA Competition(Master)'!D47 -> 1558 | E41: 955 | F41: 84.99 | G41: {=SUMPRODUCT(($A$5:$A$121=A41)*(F41<$F$5:$F$121))+1} -> 5
A42: ='AAA Competition(Master)'!A53 -> 1 | B42: ='AAA Competition(Master)'!B53 -> 15 | C42: ='AAA Competition(Master)'!C53 -> JENSEN BEACH | D42: ='AAA Competition(Master)'!D53 -> 1690 | E42: 455 | F42: 78.64 | G42: {=SUMPRODUCT(($A$5:$A$121=A42)*(F42<$F$5:$F$121))+1} -> 10
A43: ='AAA Competition(Master)'!A90 -> 4 | B43: ='AAA Competition(Master)'!B90 -> 17 | C43: ='AAA Competition(Master)'!C90 -> JUPITER-TEQUESTA | D43: ='AAA Competition(Master)'!D90 -> 2237 | E43: 2327 | F43: 82.73 | G43: {=SUMPRODUCT(($A$5:$A$121=A43)*(F43<$F$5:$F$121))+1} -> 6
A44: ='AAA Competition(Master)'!A96 -> 2 | B44: ='AAA Competition(Master)'!B96 -> 23 | C44: ='AAA Competition(Master)'!C96 -> KEY LARGO | D44: ='AAA Competition(Master)'!D96 -> 2287 | E44: 688 | F44: 77.4 | G44: {=SUMPRODUCT(($A$5:$A$121=A44)*(F44<$F$5:$F$121))+1} -> 23
A45: 3 | B45: ='AAA Competition(Master)'!B59 -> 23 | C45: ='AAA Competition(Master)'!C59 -> KEY WEST | D45: ='AAA Competition(Master)'!D59 -> 1760 | E45: 1072 | F45: 75.46 | G45: {=SUMPRODUCT(($A$5:$A$121=A45)*(F45<$F$5:$F$121))+1} -> 25
A46: ='AAA Competition(Master)'!A111 -> 1 | B46: ='AAA Competition(Master)'!B111 -> 3 | C46: ='AAA Competition(Master)'!C111 -> KINGS BAY, GA | D46: ='AAA Competition(Master)'!D111 -> 2418 | E46: 113 | F46: 65.42 | G46: {=SUMPRODUCT(($A$5:$A$121=A46)*(F46<$F$5:$F$121))+1} -> 27
A47: ='AAA Competition(Master)'!A76 -> 1 | B47: ='AAA Competition(Master)'!B76 -> 6 | C47: ='AAA Competition(Master)'!C76 -> KISSIMMEE | D47: ='AAA Competition(Master)'!D76 -> 2056 | E47: 208 | F47: 90.36 | G47: {=SUMPRODUCT(($A$5:$A$121=A47)*(F47<$F$5:$F$121))+1} -> 1
A48: 1 | B48: ='AAA Competition(Master)'!B108 -> 19 | C48: ='AAA Competition(Master)'!C108 -> LA BELLE | D48: ='AAA Competition(Master)'!D108 -> 2398 | E48: 600 | F48: 70.71 | G48: {=SUMPRODUCT(($A$5:$A$121=A48)*(F48<$F$5:$F$121))+1} -> 24
A49: 2 | B49: ='AAA Competition(Master)'!B16 -> 2 | C49: ='AAA Competition(Master)'!C16 -> LAKE CITY | D49: ='AAA Competition(Master)'!D16 -> 624 | E49: 863 | F49: 77.37 | G49: {=SUMPRODUCT(($A$5:$A$121=A49)*(F49<$F$5:$F$121))+1} -> 24
A50: 3 | B50: ='AAA Competition(Master)'!B105 -> 14 | C50: ='AAA Competition(Master)'!C105 -> LAKE PLACID | D50: ='AAA Competition(Master)'!D105 -> 2374 | E50: 1283 | F50: 73.49 | G50: {=SUMPRODUCT(($A$5:$A$121=A50)*(F50<$F$5:$F$121))+1} -> 26
A51: 3 | B51: ='AAA Competition(Master)'!B75 -> 2 | C51: ='AAA Competition(Master)'!C75 -> LAKE SHORE | D51: ='AAA Competition(Master)'!D75 -> 2020 | E51: 1500 | F51: 86.9 | G51: {=SUMPRODUCT(($A$5:$A$121=A51)*(F51<$F$5:$F$121))+1} -> 1
A52: ='AAA Competition(Master)'!A106 -> 3 | B52: ='AAA Competition(Master)'!B106 -> 12 | C52: ='AAA Competition(Master)'!C106 -> LAKE WALES | D52: ='AAA Competition(Master)'!D106 -> 2391 | E52: 1014 | F52: 73.08 | G52: {=SUMPRODUCT(($A$5:$A$121=A52)*(F52<$F$5:$F$121))+1} -> 27
A53: 2 | B53: ='AAA Competition(Master)'!B24 -> 17 | C53: ='AAA Competition(Master)'!C24 -> LAKE WORTH | D53: ='AAA Competition(Master)'!D24 -> 994 | E53: 769 | F53: 82.32 | G53: {=SUMPRODUCT(($A$5:$A$121=A53)*(F53<$F$5:$F$121))+1} -> 6
A54: ='AAA Competition(Master)'!A69 -> 3 | B54: ='AAA Competition(Master)'!B69 -> 8 | C54: ='AAA Competition(Master)'!C69 -> LAND O' LAKES | D54: ='AAA Competition(Master)'!D69 -> 1903 | E54: 1004 | F54: 76.17 | G54: {=SUMPRODUCT(($A$5:$A$121=A54)*(F54<$F$5:$F$121))+1} -> 24
A55: 1 | B55: ='AAA Competition(Master)'!B89 -> 10 | C55: ='AAA Competition(Master)'!C89 -> LARGO | D55: ='AAA Competition(Master)'!D89 -> 2205 | E55: 602 | F55: 79.01 | G55: {=SUMPRODUCT(($A$5:$A$121=A55)*(F55<$F$5:$F$121))+1} -> 9
A56: 1 | B56: ='AAA Competition(Master)'!B93 -> 19 | C56: ='AAA Competition(Master)'!C93 -> LEHIGH ACRES | D56: ='AAA Competition(Master)'!D93 -> 2266 | E56: 524 | F56: 76.95 | G56: {=SUMPRODUCT(($A$5:$A$121=A56)*(F56<$F$5:$F$121))+1} -> 14
A57: 1 | B57: ='AAA Competition(Master)'!B91 -> 22 | C57: ='AAA Competition(Master)'!C91 -> LEISURE CITY | D57: ='AAA Competition(Master)'!D91 -> 2258 | E57: 603 | F57: 80.42 | G57: {=SUMPRODUCT(($A$5:$A$121=A57)*(F57<$F$5:$F$121))+1} -> 6
A58: 1 | B58: ='AAA Competition(Master)'!B109 -> 2 | C58: ='AAA Competition(Master)'!C109 -> MACCLENNY | D58: ='AAA Competition(Master)'!D109 -> 2412 | E58: 557 | F58: 73.93 | G58: {=SUMPRODUCT(($A$5:$A$121=A58)*(F58<$F$5:$F$121))+1} -> 20
A59: ='AAA Competition(Master)'!A3 -> 4 | B59: ='AAA Competition(Master)'!B3 -> 2 | C59: ='AAA Competition(Master)'!C3 -> MANDARIN | D59: ='AAA Competition(Master)'!D3 -> 42 | E59: 1689 | F59: 84.22 | G59: {=SUMPRODUCT(($A$5:$A$121=A59)*(F59<$F$5:$F$121))+1} -> 3
A60: ='AAA Competition(Master)'!A28 -> 2 | B60: ='AAA Competition(Master)'!B28 -> 23 | C60: ='AAA Competition(Master)'!C28 -> MARATHON | D60: ='AAA Competition(Master)'!D28 -> 1058 | E60: 659 | F60: 77.94 | G60: {=SUMPRODUCT(($A$5:$A$121=A60)*(F60<$F$5:$F$121))+1} -> 21
A61: ='AAA Competition(Master)'!A27 -> 1 | B61: ='AAA Competition(Master)'!B27 -> 1 | C61: ='AAA Competition(Master)'!C27 -> MARIANNA | D61: ='AAA Competition(Master)'!D27 -> 1026 | E61: 239 | F61: 71.06 | G61: {=SUMPRODUCT(($A$5:$A$121=A61)*(F61<$F$5:$F$121))+1} -> 23
A62: 2 | B62: ='AAA Competition(Master)'!B43 -> 9 | C62: ='AAA Competition(Master)'!C43 -> MELBOURNE | D62: ='AAA Competition(Master)'!D43 -> 1406 | E62: 923 | F62: 79.85 | G62: {=SUMPRODUCT(($A$5:$A$121=A62)*(F62<$F$5:$F$121))+1} -> 9
A63: ='AAA Competition(Master)'!A77 -> 4 | B63: ='AAA Competition(Master)'!B77 -> 9 | C63: ='AAA Competition(Master)'!C77 -> MERRITT ISLAND | D63: ='AAA Competition(Master)'!D77 -> 2073 | E63: 4380 | F63: 79.99 | G63: {=SUMPRODUCT(($A$5:$A$121=A63)*(F63<$F$5:$F$121))+1} -> 20
A64: ='AAA Competition(Master)'!A32 -> 1 | B64: ='AAA Competition(Master)'!B32 -> 21 | C64: ='AAA Competition(Master)'!C32 -> MIRAMAR | D64: ='AAA Competition(Master)'!D32 -> 1150 | E64: 280 | F64: 72.15 | G64: {=SUMPRODUCT(($A$5:$A$121=A64)*(F64<$F$5:$F$121))+1} -> 22
A65: ='AAA Competition(Master)'!A61 -> 4 | B65: ='AAA Competition(Master)'!B61 -> 20 | C65: ='AAA Competition(Master)'!C61 -> NAPLES | D65: ='AAA Competition(Master)'!D61 -> 1782 | E65: 1905 | F65: 81.7 | G65: {=SUMPRODUCT(($A$5:$A$121=A65)*(F65<$F$5:$F$121))+1} -> 12
A66: ='AAA Competition(Master)'!A101 -> 3 | B66: ='AAA Competition(Master)'!B101 -> 3 | C66: ='AAA Competition(Master)'!C101 -> NASSAU | D66: ='AAA Competition(Master)'!D101 -> 2352 | E66: 1004 | F66: 77.87 | G66: {=SUMPRODUCT(($A$5:$A$121=A66)*(F66<$F$5:$F$121))+1} -> 22
A67: ='AAA Competition(Master)'!A57 -> 3 | B67: ='AAA Competition(Master)'!B57 -> 8 | C67: ='AAA Competition(Master)'!C57 -> NEW PORT RICHEY | D67: ='AAA Competition(Master)'!D57 -> 1747 | E67: 1181 | F67: 81.33 | G67: {=SUMPRODUCT(($A$5:$A$121=A67)*(F67<$F$5:$F$121))+1} -> 15
A68: ='AAA Competition(Master)'!A65 -> 3 | B68: ='AAA Competition(Master)'!B65 -> 7 | C68: ='AAA Competition(Master)'!C65 -> NEW SMYRNA BEACH | D68: ='AAA Competition(Master)'!D65 -> 1835 | E68: 1031 | F68: 80.51 | G68: {=SUMPRODUCT(($A$5:$A$121=A68)*(F68<$F$5:$F$121))+1} -> 16
A69: 2 | B69: ='AAA Competition(Master)'!B104 -> 10 | C69: ='AAA Competition(Master)'!C104 -> NORTH BAY | D69: ='AAA Competition(Master)'!D104 -> 2373 | E69: 887 | F69: 85.34 | G69: {=SUMPRODUCT(($A$5:$A$121=A69)*(F69<$F$5:$F$121))+1} -> 1
A70: 2 | B70: ='AAA Competition(Master)'!B56 -> 11 | C70: ='AAA Competition(Master)'!C56 -> NORTH HILLSBORO | D70: ='AAA Competition(Master)'!D56 -> 1741 | E70: 826 | F70: 78.14 | G70: {=SUMPRODUCT(($A$5:$A$121=A70)*(F70<$F$5:$F$121))+1} -> 19
A71: ='AAA Competition(Master)'!A82 -> 1 | B71: ='AAA Competition(Master)'!B82 -> 3 | C71: ='AAA Competition(Master)'!C82 -> NORTH JACKSONVILLE | D71: ='AAA Competition(Master)'!D82 -> 2134 | E71: 251 | F71: 82.11 | G71: {=SUMPRODUCT(($A$5:$A$121=A71)*(F71<$F$5:$F$121))+1} -> 3
A72: ='AAA Competition(Master)'!A18 -> 4 | B72: ='AAA Competition(Master)'!B18 -> 16 | C72: ='AAA Competition(Master)'!C18 -> NORTH PORT | D72: ='AAA Competition(Master)'!D18 -> 764 | E72: 2938 | F72: 74.12 | G72: {=SUMPRODUCT(($A$5:$A$121=A72)*(F72<$F$5:$F$121))+1} -> 29
A73: ='AAA Competition(Master)'!A25 -> 2 | B73: ='AAA Competition(Master)'!B25 -> 4 | C73: ='AAA Competition(Master)'!C25 -> OCALA | D73: ='AAA Competition(Master)'!D25 -> 1014 | E73: 665 | F73: 78.73 | G73: {=SUMPRODUCT(($A$5:$A$121=A73)*(F73<$F$5:$F$121))+1} -> 16
A74: 2 | B74: ='AAA Competition(Master)'!B116 -> 4 | C74: ='AAA Competition(Master)'!C116 -> OCALA FOREST | D74: ='AAA Competition(Master)'!D116 -> 2535 | E74: 933 | F74: 78.28 | G74: {=SUMPRODUCT(($A$5:$A$121=A74)*(F74<$F$5:$F$121))+1} -> 17
A75: 1 | B75: ='AAA Competition(Master)'!B58 -> 15 | C75: ='AAA Competition(Master)'!C58 -> OKEECHOBEE | D75: ='AAA Competition(Master)'!D58 -> 1753 | E75: 586 | F75: 78.07 | G75: {=SUMPRODUCT(($A$5:$A$121=A75)*(F75<$F$5:$F$121))+1} -> 11
A76: 3 | B76: ='AAA Competition(Master)'!B19 -> 6 | C76: ='AAA Competition(Master)'!C19 -> ORLANDO | D76: ='AAA Competition(Master)'!D19 -> 766 | E76: 1409 | F76: 80.46 | G76: {=SUMPRODUCT(($A$5:$A$121=A76)*(F76<$F$5:$F$121))+1} -> 18
A77: ='AAA Competition(Master)'!A4 -> 4 | B77: ='AAA Competition(Master)'!B4 -> 5 | C77: ='AAA Competition(Master)'!C4 -> PALATKA | D77: ='AAA Competition(Master)'!D4 -> 184 | E77: 1764 | F77: 82.16 | G77: {=SUMPRODUCT(($A$5:$A$121=A77)*(F77<$F$5:$F$121))+1} -> 10
A78: 2 | B78: ='AAA Competition(Master)'!B99 -> 9 | C78: ='AAA Competition(Master)'!C99 -> PALM BAY | D78: ='AAA Competition(Master)'!D99 -> 2311 | E78: 817 | F78: 76.49 | G78: {=SUMPRODUCT(($A$5:$A$121=A78)*(F78<$F$5:$F$121))+1} -> 25
A79: ='AAA Competition(Master)'!A73 -> 4 | B79: ='AAA Competition(Master)'!B73 -> 17 | C79: ='AAA Competition(Master)'!C73 -> PALM BCH GARDENS | D79: ='AAA Competition(Master)'!D73 -> 2010 | E79: 1726 | F79: 82.49 | G79: {=SUMPRODUCT(($A$5:$A$121=A79)*(F79<$F$5:$F$121))+1} -> 8
A80: 2 | B80: ='AAA Competition(Master)'!B10 -> 10 | C80: ='AAA Competition(Master)'!C10 -> PALM HARBOR | D80: ='AAA Competition(Master)'!D10 -> 433 | E80: 829 | F80: 79.01 | G80: {=SUMPRODUCT(($A$5:$A$121=A80)*(F80<$F$5:$F$121))+1} -> 14
A81: ='AAA Competition(Master)'!A80 -> 4 | B81: ='AAA Competition(Master)'!B80 -> 13 | C81: ='AAA Competition(Master)'!C80 -> PALMETTO | D81: ='AAA Competition(Master)'!D80 -> 2117 | E81: 4407 | F81: 81.62 | G81: {=SUMPRODUCT(($A$5:$A$121=A81)*(F81<$F$5:$F$121))+1} -> 13
A82: ='AAA Competition(Master)'!A42 -> 1 | B82: ='AAA Competition(Master)'!B42 -> 1 | C82: ='AAA Competition(Master)'!C42 -> PANAMA CITY | D82: ='AAA Competition(Master)'!D42 -> 1389 | E82: 386 | F82: 67.66 | G82: {=SUMPRODUCT(($A$5:$A$121=A82)*(F82<$F$5:$F$121))+1} -> 25
A83: ='AAA Competition(Master)'!A14 -> 2 | B83: ='AAA Competition(Master)'!B14 -> 1 | C83: ='AAA Competition(Master)'!C14 -> PENSACOLA | D83: ='AAA Competition(Master)'!D14 -> 557 | E83: 719 | F83: 79.64 | G83: {=SUMPRODUCT(($A$5:$A$121=A83)*(F83<$F$5:$F$121))+1} -> 11
A84: ='AAA Competition(Master)'!A8 -> 1 | B84: ='AAA Competition(Master)'!B8 -> 22 | C84: ='AAA Competition(Master)'!C8 -> PERRINE | D84: ='AAA Competition(Master)'!D8 -> 380 | E84: 233 | F84: 74.78 | G84: {=SUMPRODUCT(($A$5:$A$121=A84)*(F84<$F$5:$F$121))+1} -> 19
A85: ='AAA Competition(Master)'!A100 -> 3 | B85: ='AAA Competition(Master)'!B100 -> 6 | C85: ='AAA Competition(Master)'!C100 -> PINE CASTLE | D85: ='AAA Competition(Master)'!D100 -> 2345 | E85: 1035 | F85: 85.14 | G85: {=SUMPRODUCT(($A$5:$A$121=A85)*(F85<$F$5:$F$121))+1} -> 4
A86: ='AAA Competition(Master)'!A71 -> 4 | B86: ='AAA Competition(Master)'!B71 -> 18 | C86: ='AAA Competition(Master)'!C71 -> PINE ISLAND | D86: ='AAA Competition(Master)'!D71 -> 1954 | E86: 1710 | F86: 82.34 | G86: {=SUMPRODUCT(($A$5:$A$121=A86)*(F86<$F$5:$F$121))+1} -> 9
A87: 2 | B87: ='AAA Competition(Master)'!B84 -> 21 | C87: ='AAA Competition(Master)'!C84 -> POMPANO BCH | D87: ='AAA Competition(Master)'!D84 -> 2157 | E87: 794 | F87: 79.46 | G87: {=SUMPRODUCT(($A$5:$A$121=A87)*(F87<$F$5:$F$121))+1} -> 12
A88: ='AAA Competition(Master)'!A81 -> 4 | B88: ='AAA Competition(Master)'!B81 -> 16 | C88: ='AAA Competition(Master)'!C81 -> PORT CHARLOTTE | D88: ='AAA Competition(Master)'!D81 -> 2121 | E88: 3463 | F88: 78.95 | G88: {=SUMPRODUCT(($A$5:$A$121=A88)*(F88<$F$5:$F$121))+1} -> 24
A89: ='AAA Competition(Master)'!A12 -> 2 | B89: ='AAA Competition(Master)'!B12 -> 15 | C89: ='AAA Competition(Master)'!C12 -> PORT ST. LUCIE | D89: ='AAA Competition(Master)'!D12 -> 513 | E89: 682 | F89: 79.79 | G89: {=SUMPRODUCT(($A$5:$A$121=A89)*(F89<$F$5:$F$121))+1} -> 10
A90: ='AAA Competition(Master)'!A54 -> 4 | B90: ='AAA Competition(Master)'!B54 -> 16 | C90: ='AAA Competition(Master)'!C54 -> PUNTA GORDA | D90: ='AAA Competition(Master)'!D54 -> 1693 | E90: 2801 | F90: 74.29 | G90: {=SUMPRODUCT(($A$5:$A$121=A90)*(F90<$F$5:$F$121))+1} -> 28
A91: ='AAA Competition(Master)'!A119 -> 1 | B91: ='AAA Competition(Master)'!B119 -> 1 | C91: ='AAA Competition(Master)'!C119 -> QUINCY | D91: ='AAA Competition(Master)'!D119 -> 2672 | E91: 238 | F91: 75.23 | G91: {=SUMPRODUCT(($A$5:$A$121=A91)*(F91<$F$5:$F$121))+1} -> 17
A92: 1 | B92: ='AAA Competition(Master)'!B85 -> 11 | C92: ='AAA Competition(Master)'!C85 -> RIVERVIEW | D92: ='AAA Competition(Master)'!D85 -> 2158 | E92: 600 | F92: 65.04 | G92: {=SUMPRODUCT(($A$5:$A$121=A92)*(F92<$F$5:$F$121))+1} -> 28
A93: ='AAA Competition(Master)'!A20 -> 4 | B93: ='AAA Competition(Master)'!B20 -> 13 | C93: ='AAA Competition(Master)'!C20 -> RUSKIN | D93: ='AAA Competition(Master)'!D20 -> 813 | E93: 2266 | F93: 81.24 | G93: {=SUMPRODUCT(($A$5:$A$121=A93)*(F93<$F$5:$F$121))+1} -> 15
A94: ='AAA Competition(Master)'!A66 -> 3 | B94: ='AAA Competition(Master)'!B66 -> 7 | C94: ='AAA Competition(Master)'!C66 -> SANFORD | D94: ='AAA Competition(Master)'!D66 -> 1851 | E94: 1082 | F94: 72.3 | G94: {=SUMPRODUCT(($A$5:$A$121=A94)*(F94<$F$5:$F$121))+1} -> 28
A95: 2 | B95: ='AAA Competition(Master)'!B40 -> 13 | C95: ='AAA Competition(Master)'!C40 -> SARASOTA | D95: ='AAA Competition(Master)'!D40 -> 1319 | E95: 937 | F95: 79.41 | G95: {=SUMPRODUCT(($A$5:$A$121=A95)*(F95<$F$5:$F$121))+1} -> 13
A96: ='AAA Competition(Master)'!A103 -> 4 | B96: ='AAA Competition(Master)'!B103 -> 9 | C96: ='AAA Competition(Master)'!C103 -> SATELLITE BEACH | D96: ='AAA Competition(Master)'!D103 -> 2367 | E96: 1506 | F96: 80.52 | G96: {=SUMPRODUCT(($A$5:$A$121=A96)*(F96<$F$5:$F$121))+1} -> 19
A97: 3 | B97: ='AAA Competition(Master)'!B60 -> 9 | C97: ='AAA Competition(Master)'!C60 -> SEBASTIAN RIVER | D97: ='AAA Competition(Master)'!D60 -> 1767 | E97: 995 | F97: 82.04 | G97: {=SUMPRODUCT(($A$5:$A$121=A97)*(F97<$F$5:$F$121))+1} -> 13
A98: ='AAA Competition(Master)'!A92 -> 4 | B98: ='AAA Competition(Master)'!B92 -> 14 | C98: ='AAA Competition(Master)'!C92 -> SEBRING | D98: ='AAA Competition(Master)'!D92 -> 2259 | E98: 1614 | F98: 81.06 | G98: {=SUMPRODUCT(($A$5:$A$121=A98)*(F98<$F$5:$F$121))+1} -> 17
A99: ='AAA Competition(Master)'!A33 -> 2 | B99: ='AAA Competition(Master)'!B33 -> 4 | C99: ='AAA Competition(Master)'!C33 -> SILVER SPRINGS | D99: ='AAA Competition(Master)'!D33 -> 1199 | E99: 707 | F99: 73.89 | G99: {=SUMPRODUCT(($A$5:$A$121=A99)*(F99<$F$5:$F$121))+1} -> 27
A100: 2 | B100: ='AAA Competition(Master)'!B97 -> 12 | C100: ='AAA Competition(Master)'!C97 -> SO LAKELAND MULBERRY | D100: ='AAA Competition(Master)'!D97 -> 2295 | E100: 757 | F100: 69.72 | G100: {=SUMPRODUCT(($A$5:$A$121=A100)*(F100<$F$5:$F$121))+1} -> 30
...
